BEGIN:VCALENDAR
VERSION:2.0
PRODID:-//Innovacia Sdn Bhd - ECPv6.15.20//NONSGML v1.0//EN
CALSCALE:GREGORIAN
METHOD:PUBLISH
X-WR-CALNAME:Innovacia Sdn Bhd
X-ORIGINAL-URL:https://www.innovacia.com.my
X-WR-CALDESC:Events for Innovacia Sdn Bhd
REFRESH-INTERVAL;VALUE=DURATION:PT1H
X-Robots-Tag:noindex
X-PUBLISHED-TTL:PT1H
BEGIN:VTIMEZONE
TZID:Asia/Shanghai
BEGIN:STANDARD
TZOFFSETFROM:+0800
TZOFFSETTO:+0800
TZNAME:CST
DTSTART:20240101T000000
END:STANDARD
END:VTIMEZONE
BEGIN:VEVENT
DTSTART;VALUE=DATE:20250409
DTEND;VALUE=DATE:20250411
DTSTAMP:20260423T061940
CREATED:20250328T051322Z
LAST-MODIFIED:20250328T051322Z
UID:4338-1744156800-1744329599@www.innovacia.com.my
SUMMARY:47TH International Federation of Asian and Western Pacific Contractors’ Associations (IFAWPCA) Convention
DESCRIPTION:  \n \nEVENT LISTING \nTitle: 47TH International Federation of Asian and Western Pacific Contractors’ Associations  (IFAWPCA) Convention\nTheme: Embracing Construction of Tomorrow\nDate: 9-10 April\nVenue: Sands Expo and Convention Centre\nCountry: Singapore\nWebsite: ifawpca2025.scal.com.sg \nEVENT DESCRIPTION: \nJoin us on 9–10 April for the Forum & Exhibition under the “Embracing Construction of Tomorrow” theme. This event will explore four key areas driving industry transformation: Urban Resilience & Coastal Protection\, Green Financing\, Construction Technology\, and Sustainability. It will address industry challenges\, uncover business opportunities\, and showcase the latest trends that are reshaping the built environment. \nThe exhibition will feature cutting-edge solutions\, and the forum will bring together industry experts to discuss critical issues. Additionally\, delegates will have the exclusive opportunity to participate in technical site visits\, offering firsthand insights into groundbreaking construction projects. \nThis event is part of the 47th IFAWPCA Convention 2025\, taking place from 7–11 April\, connecting contractors from across Asia and the Western Pacific. \nRegister now and be part of this transformative event! Register here: https://ifawpca2025.scal.com.sg/get-your-convention-pass/
URL:https://www.innovacia.com.my/event/ifawpca-convention/
END:VEVENT
END:VCALENDAR