BEGIN:VCALENDAR
VERSION:2.0
PRODID:-//Innovacia Sdn Bhd - ECPv6.15.20//NONSGML v1.0//EN
CALSCALE:GREGORIAN
METHOD:PUBLISH
X-WR-CALNAME:Innovacia Sdn Bhd
X-ORIGINAL-URL:https://www.innovacia.com.my
X-WR-CALDESC:Events for Innovacia Sdn Bhd
REFRESH-INTERVAL;VALUE=DURATION:PT1H
X-Robots-Tag:noindex
X-PUBLISHED-TTL:PT1H
BEGIN:VTIMEZONE
TZID:Asia/Shanghai
BEGIN:STANDARD
TZOFFSETFROM:+0800
TZOFFSETTO:+0800
TZNAME:CST
DTSTART:20240101T000000
END:STANDARD
END:VTIMEZONE
BEGIN:VEVENT
DTSTART;VALUE=DATE:20250318
DTEND;VALUE=DATE:20250321
DTSTAMP:20260423T063949
CREATED:20250131T044323Z
LAST-MODIFIED:20250131T044411Z
UID:4255-1742256000-1742515199@www.innovacia.com.my
SUMMARY:BuildTech Asia 2025
DESCRIPTION:Building Tomorrow: Innovate. Sustain. Transform. \nBuildTech Asia (BTA) 2025\, Asia’s leading trade event for the construction and built environment ecosystem\, returns from 18–20 March 2025 at Singapore EXPO. Under the refreshed theme “Building Tomorrow: Innovate. Sustain. Transform”\, BTA 2025 brings together the industry’s brightest minds\, cutting-edge innovations\, and transformative solutions. \nWith an expanded line-up of content\, a broader audience\, and dynamic opportunities\, BTA 2025 brings together professionals\, innovators\, and decision-makers to explore the latest innovations\, share insights\, and drive meaningful progress in the built environment. \nFor further details on the expo\, visit: https://www.buildtechasia.com/ \nBTA 2025 is open for visitor online registrations .
URL:https://www.innovacia.com.my/event/buildtech-asia-2025/
END:VEVENT
BEGIN:VEVENT
DTSTART;TZID=Asia/Shanghai:20250225T090000
DTEND;TZID=Asia/Shanghai:20250225T170000
DTSTAMP:20260423T063949
CREATED:20250109T084059Z
LAST-MODIFIED:20250225T134338Z
UID:4201-1740474000-1740502800@www.innovacia.com.my
SUMMARY:2D CAD to BIM Modelling using BricsCAD BIM (Online Training)
DESCRIPTION:TVET Digitalised Competency and Professional Certification Programs 2025 \nCourse: 2D CAD to BIM Modelling using BricsCAD BIM\nAbout: Basic hands-on 2D Drafting to Building Information Modelling (BIM) training using BricsCAD BIM software\nDate: 25 February 2025\nDuration: 1 Day\nMethod: Online\nFees: RM 750/pax – HRD Corp Claimable \nCourse Brochure: 2D CAD TO BIM MODELLING USING BRICSCAD BIM
URL:https://www.innovacia.com.my/event/cad-bim-training/
LOCATION:Online
ORGANIZER;CN="Innovacia Sdn. Bhd.":MAILTO:info@innovacia.com.my
END:VEVENT
END:VCALENDAR