BEGIN:VCALENDAR
VERSION:2.0
PRODID:-//Innovacia Sdn Bhd - ECPv6.15.20//NONSGML v1.0//EN
CALSCALE:GREGORIAN
METHOD:PUBLISH
X-WR-CALNAME:Innovacia Sdn Bhd
X-ORIGINAL-URL:https://www.innovacia.com.my
X-WR-CALDESC:Events for Innovacia Sdn Bhd
REFRESH-INTERVAL;VALUE=DURATION:PT1H
X-Robots-Tag:noindex
X-PUBLISHED-TTL:PT1H
BEGIN:VTIMEZONE
TZID:Asia/Shanghai
BEGIN:STANDARD
TZOFFSETFROM:+0800
TZOFFSETTO:+0800
TZNAME:CST
DTSTART:20250101T000000
END:STANDARD
END:VTIMEZONE
BEGIN:VEVENT
DTSTART;VALUE=DATE:20260204
DTEND;VALUE=DATE:20260206
DTSTAMP:20260423T060649
CREATED:20251226T094927Z
LAST-MODIFIED:20260128T221824Z
UID:5852-1770163200-1770335999@www.innovacia.com.my
SUMMARY:Integration And Collaboration Based on Open BIM Principles
DESCRIPTION:About:\nIn the real world situation\, parties in projects are utilising various types of software and thus proper workflows are required. The solution to the problem is this hands-on training on integration and collaboration based on principles of open Building Information Modelling (BIM) by utilising various BIM software.\n\nObjectives:\n\n\nIntroduce participants to Industry Foundation Classes (IFC)\, BIM Dimension\, BIM Collaboration Format (BCF) and Construction Operations Building Information Exchange (COBie)\nProduce basic BIM modelling projects using various BIM software\nPerform cost estimation\, project scheduling and facility management features using various BIM software\n\n\nWho Should Join:\nClients\, consultants\, contractors\, manufacturers\, academicians\, students and all others who wish to have a quick grasp of hands-on integration and collaboration based on open BIM principles\n\nPre- Requisite:\n\n\n\n\nHardware with graphic cards (GPU) are required for installation of the various BIM Software\nPrior basic experience in CAD or BIM is preferred but not compulsory\n\nModule Content: \n\nIntroduction to IFC\nBasic BIM Architecture\, M&E and C&S modelling using several BIM software\nClash detection approach using several software\nIntroduction to BIM Dimension\, BCF and COBie\nHands-on cost estimation\, work scheduling and facility management features using open source BIM software\nCourse Test\n\n\nFees: RM 1\,500.00 / pax \n(HRD Corp claimable – Contact info@innovacia.com.my for HRD process.)\n\nRegistration Dateline : 28 January 2026\n\nCourse Details:\n\n\n\nDate: 4 – 5 February 2026 (2 Days)\,\nTime: 9am – 5pm\nKuala Lumpur\n\n\nCertificates:\n\n\nCompetency Certificate: Integration and Collaboration Based on Open BIM Principles\n\n\n\nCourse Information:\n\n\nBrochure – INTEGRATION AND COLLABORATION BASED ON OPEN BIM PRINCIPLES
URL:https://www.innovacia.com.my/event/open-bim-principles/
LOCATION:Kuala Lumpur\, Malaysia
CATEGORIES:Training
ORGANIZER;CN="Innovacia Sdn. Bhd.":MAILTO:info@innovacia.com.my
END:VEVENT
BEGIN:VEVENT
DTSTART;VALUE=DATE:20260423
DTEND;VALUE=DATE:20260427
DTSTAMP:20260423T060649
CREATED:20260119T072541Z
LAST-MODIFIED:20260119T073023Z
UID:5899-1776906000-1777165199@www.innovacia.com.my
SUMMARY:ARCH:ID 2026
DESCRIPTION:  \n \nARCH:ID 2026 \nARCH:ID is the annual architectural forum and trade event organized by the Indonesian Institute of Architects (IAI) and PT CIS Exhibition. Since 2020\, it has become a trusted platform for the architecture and built environment industry to connect\, collaborate\, and innovate. \nNow in its 6th edition\, ARCH:ID is projected to occupy 17\,000 sqm\, welcome over 31\,000 local and international visitors and 200 Exhibitors. Beyond the exhibition\, it features curated programs\, networking sessions\, and industry showcases that foster meaningful connections and drive progress in the field. The event also presents an International Conference featuring renowned cross-disciplinary speakers. \nFor exhibiting and visiting enquiry\, please visit https://arch.id/
URL:https://www.innovacia.com.my/event/arch-id2026/
LOCATION:Indonesia Convention Exhibition (ICE) BSD City\, Jl. BSD Grand Boulevard Raya No.1\,\, BSD City\, Tangerang\, 15339\, Indonesia
CATEGORIES:Architecture Exhibition and Conference
END:VEVENT
BEGIN:VEVENT
DTSTART;VALUE=DATE:20260505
DTEND;VALUE=DATE:20260506
DTSTAMP:20260423T060649
CREATED:20260123T025131Z
LAST-MODIFIED:20260421T080856Z
UID:5919-1777939200-1778025599@www.innovacia.com.my
SUMMARY:buildingSMART Professional Certification - Foundation (Cohort 1/2026) : Online
DESCRIPTION:  \nbuildingSMART Professional Certification – Foundation\n\nAbout:\n\nThe 2.5-day buildingSMART Professional Certification – Foundation program provides international endorsement that you are verified to be trained in Building Information Modelling (BIM) processes based on global standards. The curriculum is developed and coordinated by the buildingSMART Professional Certification Committee from various Chapters globally and is peer reviewed by an international advisory panel. \nThe program is divided into eight Modules and its core content is based on the ISO19650 and offers guidelines in approaching smart construction project deliveries. The first seven Modules are delivered live online by instructors on Day 1 and after that the participants\, with access to various notes and videos the Program Portal\, will have the opportunity to continue with a selfpaced study for a duration of 14 days. In reinforcing the students’ understanding\, it is followed by a physical classroom session for the Module 8 (Colloquium) as well as for quizzes\, activities and demo exam. The final day of the program will cover the concluding discussion\, exam preparation and the exam itself which will be held using the buildingSMART’s Qualification Platform. \nFocus Area:\nBuilding Information Modelling\, Construction 4.0\, Smart Construction\, openBIM Implementation \n\nLearning Outcomes / Objectives: \n\nUnderstand the definition\, key terminologies and benefits of Building Information Modelling (BIM)\nRecognise the advantages of BIM compared to traditional project delivery\nUnderstand project information management\, with BIM\, according to the ISO 19650 series.\nRecognise the need for open and interoperable solutions\nUnderstand the importance of asset lifecycle and Owner / Operator perspectives for Information Management\nUnderstand the national standards and guidelines with regards to information management on projects in Australasia (Case Studies)\n\nTarget Participants / Audience:\nGovernment\, industry (clients\, consultants\, manufacturers\, contractors) and education practitioners as well as students who wish to be certified in BIM under a globally recognised qualification program; based on international standards and best practices. \n\nTarget Industry:\nArchitectural\, Engineering and Construction (AEC)\, Manufacturing\, Education\n\nPre-requisites:\n\n\nMinimal knowledge on the topic of construction digitalisation.\nNo prior hands-on BIM authoring software experience is required for this program\nBring your own laptop to access the notes and videos on the Program Platform; and to enter the buildingSMART’s Qualification Platform for the exam at the end of the training.\n\nTeaching Methodology: \n\nHybrid (Live online training for Day 1 and face-to-face training for Day 2 and 3)\n(Self-paced study for a duration of 14 days in between Day 1 and Day 2 of live training)\n\nProgram Fee: \n\nRM5\,000/pax all-in; inclusive of buildingSMART Professional Certification – Foundation exam fee.\nThis training is HRD Corp Claimable – Contact info@innovacia.com.my for HRD process\nAdditional 10% discount for the members of Malaysian Association of Engineers (MAE) and National STEM Association Malaysia (NSA)\n\nCohort 1/2026\nRegistration for Cohort 1/2026 is now open: \n\nDeadline: 28 April 2026\n\nDate and Venue for Cohort 1/2026:\n\n\nDay 1: 5 May 2026 (Online)\nDay 2 & 3: 19 – 20 May 2026 (Royale Chulan\, The Curve or equivalent alternative)\n\nCertification:\n\nProfessional Certification – Foundation certificate and a digital badge in the buildingSMART Qualification Platform.\nYou will also receive a buildingSMART professional title: Foundation Level: buildingSMART Foundation Qualified (bQ)\n\nTo register your spot : Online Registration (Google Forms)\nCourse Brochure: Program Prospectus
URL:https://www.innovacia.com.my/event/buildingsmart-professional-certification-foundation-cohort-1-26-online/
LOCATION:Online
CATEGORIES:Training
ORGANIZER;CN="Innovacia Sdn. Bhd.":MAILTO:info@innovacia.com.my
END:VEVENT
BEGIN:VEVENT
DTSTART;TZID=Asia/Shanghai:20260512T090000
DTEND;TZID=Asia/Shanghai:20260512T170000
DTSTAMP:20260423T060649
CREATED:20260406T112848Z
LAST-MODIFIED:20260420T095143Z
UID:5983-1778576400-1778605200@www.innovacia.com.my
SUMMARY:IBS Score CIS 18: 2023 In Sustainable Construction
DESCRIPTION:About: \n\nA training in Industrialised Building System (IBS) and hands-on IBS Score calculation using CIS 18: 2023 with introduction to QLASSIC and MyCREST.\n\nObjectives:\n\n\nCorrectly interpret IBS and undertands related policies of implementation for government and private projects\nAware of the other supporting initiatives – QLASSIC and MyCREST\nCompute IBS Score manually and able to plan and strategise; in reference to the latest standards\, CIS 18:2023 and MS1064 : 2018 with focus on Digital Construction\nIntroduction to BIM and IBS Score using BIM\n\n\nWho Should Join:\nAll practitioners in construction industry who wish to understand the IBS methodology and related tech; as well as professionals who are required to plan\, calculate and submit IBS Score\n\n\n \nModule Content:\nDAY 1:\n\n\nIntroduction to IBS Related initiatives – QLASSIC and MyCREST\nModular Coordination (MC) Concept based on MS1064: 2018\nManual IBS Score calculations based on CIS 18: 2023\nUnderstanding Digital Construction and Scoring Part 3\nBIM and IBS Score using BIM\nCourse Test\n\n\n ***Early birds RM250.00/pax (not for HRD claims) by 24 April***\nFees: RM 500.00 / pax \n(HRD Corp claimable – Contact info@innovacia.com.my for HRD process.)\n\nRegistration Dateline : 5 May 2026\n\n \nDetails:\n\n\nDate: 12 May 2025 – Tuesday (1 Day)\,\nTime: 9am – 5pm\nOnline via Zoom\n\n\nCertificates:\n\n\nCompetency Certificate: IBS Score Calculations based on CIS 18:2023\nAttendance Certificate: IBS Score CIS 18: 2023 in Sustainable Construction\n\nOnline Registration (Google Forms) : https://forms.gle/Uy9MvQJeFjj4w2Ev9 \n\n\nCourse Information:\n\n\nBrochure – IBS SCORE CIS 18: 2023 IN SUSTAINABLE CONSTRUCTION\nPresenter Info
URL:https://www.innovacia.com.my/event/ibs-score-cis-18-2023-may26/
LOCATION:Online
CATEGORIES:Training
ORGANIZER;CN="Innovacia Sdn. Bhd.":MAILTO:info@innovacia.com.my
END:VEVENT
BEGIN:VEVENT
DTSTART;VALUE=DATE:20260519
DTEND;VALUE=DATE:20260521
DTSTAMP:20260423T060649
CREATED:20260123T030022Z
LAST-MODIFIED:20260421T080829Z
UID:5921-1779148800-1779321599@www.innovacia.com.my
SUMMARY:buildingSMART Professional Certification - Foundation (Cohort 1/2026) : Colloquium
DESCRIPTION:  \nbuildingSMART Professional Certification – Foundation\n\nAbout:\n\nThe 2.5-day buildingSMART Professional Certification – Foundation program provides international endorsement that you are verified to be trained in Building Information Modelling (BIM) processes based on global standards. The curriculum is developed and coordinated by the buildingSMART Professional Certification Committee from various Chapters globally and is peer reviewed by an international advisory panel. \nThe program is divided into eight Modules and its core content is based on the ISO19650 and offers guidelines in approaching smart construction project deliveries. The first seven Modules are delivered live online by instructors on Day 1 and after that the participants\, with access to various notes and videos the Program Portal\, will have the opportunity to continue with a selfpaced study for a duration of 14 days. In reinforcing the students’ understanding\, it is followed by a physical classroom session for the Module 8 (Colloquium) as well as for quizzes\, activities and demo exam. The final day of the program will cover the concluding discussion\, exam preparation and the exam itself which will be held using the buildingSMART’s Qualification Platform. \nFocus Area:\nBuilding Information Modelling\, Construction 4.0\, Smart Construction\, openBIM Implementation \n\nLearning Outcomes / Objectives: \n\nUnderstand the definition\, key terminologies and benefits of Building Information Modelling (BIM)\nRecognise the advantages of BIM compared to traditional project delivery\nUnderstand project information management\, with BIM\, according to the ISO 19650 series.\nRecognise the need for open and interoperable solutions\nUnderstand the importance of asset lifecycle and Owner / Operator perspectives for Information Management\nUnderstand the national standards and guidelines with regards to information management on projects in Australasia (Case Studies)\n\nTarget Participants / Audience:\nGovernment\, industry (clients\, consultants\, manufacturers\, contractors) and education practitioners as well as students who wish to be certified in BIM under a globally recognised qualification program; based on international standards and best practices. \n\nTarget Industry:\nArchitectural\, Engineering and Construction (AEC)\, Manufacturing\, Education\n\nPre-requisites:\n\n\nMinimal knowledge on the topic of construction digitalisation.\nNo prior hands-on BIM authoring software experience is required for this program\nBring your own laptop to access the notes and videos on the Program Platform; and to enter the buildingSMART’s Qualification Platform for the exam at the end of the training.\n\nTeaching Methodology: \n\nHybrid (Live online training for Day 1 and face-to-face training for Day 2 and 3)\n(Self-paced study for a duration of 14 days in between Day 1 and Day 2 of live training)\n\nProgram Fee: \n\nRM5\,000/pax all-in; inclusive of buildingSMART Professional Certification – Foundation exam fee.\nThis training is HRD Corp Claimable – Contact info@innovacia.com.my for HRD process\nAdditional 10% discount for the members of Malaysian Association of Engineers (MAE) and National STEM Association Malaysia (NSA)\n\nCohort 1/2026\nRegistration for Cohort 1/2026 is now open: \n\nDeadline: 28 April 2026\n\nDate and Venue for Cohort 1/2026:\n\n\nDay 1: 5 May 2026 (Online)\nDay 2 & 3: 19 – 20 May 2026 (Royale Chulan\, The Curve or equivalent alternative)\n\nCertification:\n\nProfessional Certification – Foundation certificate and a digital badge in the buildingSMART Qualification Platform.\nYou will also receive a buildingSMART professional title: Foundation Level: buildingSMART Foundation Qualified (bQ)\n\nTo register your spot : Online Registration (Google Forms)\nCourse Brochure: Program Prospectus
URL:https://www.innovacia.com.my/event/buildingsmart-professional-certification-foundation-cohort-1-26-colloquium/
LOCATION:4 Star Hotel\, Malaysia
CATEGORIES:Training
ORGANIZER;CN="Innovacia Sdn. Bhd.":MAILTO:info@innovacia.com.my
END:VEVENT
BEGIN:VEVENT
DTSTART;VALUE=DATE:20260805
DTEND;VALUE=DATE:20260808
DTSTAMP:20260423T060649
CREATED:20260115T100410Z
LAST-MODIFIED:20260115T100410Z
UID:5894-1785888000-1786147199@www.innovacia.com.my
SUMMARY:MBAM OneBuild 2026 and OneWare 2026
DESCRIPTION:  \n \n  \nMBAM OneBuild 2026\n5th-7th August 2026\nKuala Lumpur Convention Centre\, Kuala Lumpur\, Malaysia \nMBAM OneBuild 2026\nThe Malaysia International Construction & Infrastructure Technology Exhibition (MBAM OneBuild 2026)\, now in its 12th edition\, will return from 5 to 7 August 2026 at the Kuala Lumpur Convention Centre (KLCC). Co-located with OneWare\, the Malaysia International Hardware Technology Exhibition\, the event will feature 250 exhibitors\, 400 exhibiting booths\, and over 8\,000 trade visitors\, bringing together the entire construction\, infrastructure and hardware community\, from major contractors and developers to machinery suppliers\, hardware traders\, and material manufacturers. \nUnder the theme “Smart Cities Building Tomorrow\,” MBAM OneBuild 2026 will present six dedicated exhibition segments encompassing Construction\, Infrastructure\, Construction Machinery & Equipment\, Smart City\, and Digitalisation. The exhibition will place strong emphasis on advanced digital construction technologies\, including Building Information Modelling (BIM)\, IoT-enabled infrastructure\, energy-efficient and green building solutions\, as well as intelligent mobility systems\, reflecting the future direction of sustainable construction and smart urban development. \nFor exhibiting and visiting enquiry\, please visit www.mbamonebuild.com.my
URL:https://www.innovacia.com.my/event/mbam-onebuild-2026-and-oneware-2026/
LOCATION:Kuala Lumpur Convention Centre (KLCC)\, Kuala Lumpur\, Malaysia
CATEGORIES:Construction Expo
END:VEVENT
BEGIN:VEVENT
DTSTART;VALUE=DATE:20260916
DTEND;VALUE=DATE:20260919
DTSTAMP:20260423T060649
CREATED:20260318T081613Z
LAST-MODIFIED:20260318T081800Z
UID:5949-1789520400-1789693199@www.innovacia.com.my
SUMMARY:BCT Expo 2026
DESCRIPTION:  \nBuilding Construction Technology Expo (BCT Expo) – Southeast Asia’s premier exhibition and conference platform focused on the building\, construction and mining industry. \nBCT Expo is organized to serve as an international face-to-face forum and marketplace to meet\, network\, exchange views\, update on trends\, forge business partnerships\, and create business opportunities. \nOrganized as your construction and mining meeting place\, BCT Expo will present and showcase a comprehensive range of machinery\, equipment\, tools\, materials\, smart facility management\, building information modeling (BIM)\, AI & robotics\, drone\, solutions\, construction safety\, technology and services impacting building and construction efficiency by more than 150 exhibiting companies to over 4\,000 trade professionals from the ASEAN region\, representing all sectors of the building\, construction\, and mining industries. \nFor further details on the expo\, visit: BCT Expo 2026 \nFor online registrations: \n\nSingle Visitor\nGroup \nBooth Booking
URL:https://www.innovacia.com.my/event/bct-expo-2026/
LOCATION:IMPACT Exhibition and Convention Centre\, Bangkok\, Thailand
CATEGORIES:Construction Expo
END:VEVENT
END:VCALENDAR