BEGIN:VCALENDAR
VERSION:2.0
PRODID:-//Innovacia Sdn Bhd - ECPv6.15.20//NONSGML v1.0//EN
CALSCALE:GREGORIAN
METHOD:PUBLISH
X-ORIGINAL-URL:https://www.innovacia.com.my
X-WR-CALDESC:Events for Innovacia Sdn Bhd
REFRESH-INTERVAL;VALUE=DURATION:PT1H
X-Robots-Tag:noindex
X-PUBLISHED-TTL:PT1H
BEGIN:VTIMEZONE
TZID:Asia/Shanghai
BEGIN:STANDARD
TZOFFSETFROM:+0800
TZOFFSETTO:+0800
TZNAME:CST
DTSTART:20250101T000000
END:STANDARD
END:VTIMEZONE
BEGIN:VEVENT
DTSTART;VALUE=DATE:20260916
DTEND;VALUE=DATE:20260919
DTSTAMP:20260423T060900
CREATED:20260318T081613Z
LAST-MODIFIED:20260318T081800Z
UID:5949-1789520400-1789693199@www.innovacia.com.my
SUMMARY:BCT Expo 2026
DESCRIPTION:  \nBuilding Construction Technology Expo (BCT Expo) – Southeast Asia’s premier exhibition and conference platform focused on the building\, construction and mining industry. \nBCT Expo is organized to serve as an international face-to-face forum and marketplace to meet\, network\, exchange views\, update on trends\, forge business partnerships\, and create business opportunities. \nOrganized as your construction and mining meeting place\, BCT Expo will present and showcase a comprehensive range of machinery\, equipment\, tools\, materials\, smart facility management\, building information modeling (BIM)\, AI & robotics\, drone\, solutions\, construction safety\, technology and services impacting building and construction efficiency by more than 150 exhibiting companies to over 4\,000 trade professionals from the ASEAN region\, representing all sectors of the building\, construction\, and mining industries. \nFor further details on the expo\, visit: BCT Expo 2026 \nFor online registrations: \n\nSingle Visitor\nGroup \nBooth Booking
URL:https://www.innovacia.com.my/event/bct-expo-2026/
LOCATION:IMPACT Exhibition and Convention Centre\, Bangkok\, Thailand
CATEGORIES:Construction Expo
END:VEVENT
END:VCALENDAR