BEGIN:VCALENDAR
VERSION:2.0
PRODID:-//Innovacia Sdn Bhd - ECPv6.15.20//NONSGML v1.0//EN
CALSCALE:GREGORIAN
METHOD:PUBLISH
X-WR-CALNAME:Innovacia Sdn Bhd
X-ORIGINAL-URL:https://www.innovacia.com.my
X-WR-CALDESC:Events for Innovacia Sdn Bhd
REFRESH-INTERVAL;VALUE=DURATION:PT1H
X-Robots-Tag:noindex
X-PUBLISHED-TTL:PT1H
BEGIN:VTIMEZONE
TZID:Asia/Shanghai
BEGIN:STANDARD
TZOFFSETFROM:+0800
TZOFFSETTO:+0800
TZNAME:CST
DTSTART:20240101T000000
END:STANDARD
END:VTIMEZONE
BEGIN:VEVENT
DTSTART;VALUE=DATE:20250820
DTEND;VALUE=DATE:20250822
DTSTAMP:20260422T225410
CREATED:20250718T043807Z
LAST-MODIFIED:20250718T043950Z
UID:4857-1755648000-1755820799@www.innovacia.com.my
SUMMARY:IBS Score Submission Using BIM - IBS Score Software For Revit
DESCRIPTION:  \nIBS Score Submission Using BIM – IBS Score Software For Revit\n\nAbout:\nHands-on Building Information Modeling (BIM)-based Industrialised Building System (IBS) Score calculation training using the latest IBS Score Software for Revit updated with CIS 18: 2023\n\nObjectives:\n\nUnderstand how IBS Score can be calculated based on BIM models for ease of submission\nPerform basic BIM modeling with Revit\nCalculate IBS Score using BIM-based software which can support e-submission processes\n\nWho Should Join:\n\nIndustry practitioners who wish to calculate and submit IBS Score using BIM-based software\n\n\nPre-requisites:\nUnderstands and able to calculate IBS Score based on the latest CIS 18: 2023. Knowledge in Revit is not compulsory as its basic tools will be covered in the program\n \nModule Content:\nDAY 1\n\nBasic commands of Revit to support IBS Score calculations\nGeneral modeling using Revit\n\nDAY 2\n\nBIM-based IBS Score software\nAutomated calculations\nReport Generation\nCourse Test\n\nEARLY BIRD: 29 July RM900 (Deadline 12 Aug)\nFees: RM1500 / pax\nHRD Corp Claimable\n\n\nDate:\n20 – 21 August 2025 (2 Days) – 9am to 5pm\n \nMethod / Mode: \nOnline (Zoom)\n \nCertificates:\n\nProfessional Certificate: IBS Score Software for Revit User\nAttendance Certificate: IBS Score Submission Using BIM (IBS Score Software for Revit)\n\n\n\nTo register your spot : Online Registration (Google Forms)\nCourse Brochure: IBS Score Submission Using BIM – IBS Score Software For Revit
URL:https://www.innovacia.com.my/event/ibs-revit-training/
LOCATION:Online
CATEGORIES:Training
ORGANIZER;CN="Innovacia Sdn. Bhd.":MAILTO:info@innovacia.com.my
END:VEVENT
BEGIN:VEVENT
DTSTART;VALUE=DATE:20250827
DTEND;VALUE=DATE:20250830
DTSTAMP:20260422T225410
CREATED:20250521T085000Z
LAST-MODIFIED:20250807T004245Z
UID:4607-1756252800-1756511999@www.innovacia.com.my
SUMMARY:MBAM OneBuild 2025 and OneWare 2025
DESCRIPTION:Sustainable Smart Construction Solutions \nMBAM OneBuild 2025 focuses on pioneering innovation and industry transformation\, with a commitment to sustainability and advanced technologies. The event will spotlight groundbreaking solutions such as electrical and hydrogen-powered heavy machinery to support eco-friendly operations\, advanced simulators that revolutionize training and operational efficiency\, and autonomous heavy machinery designed to enhance productivity\, safety\, and precision on construction sites. \nThe exhibition’s three core segments offer a comprehensive platform to discover the latest industry advancements. Construction & Infrastructure focuses on cutting-edge solutions driving progress in construction development. Construction Hardware features a diverse range of tools and technologies essential to modern construction needs. Meanwhile\, Construction Machinery & Equipment highlights state-of-the-art machinery designed to enhance efficiency and productivity across projects. \nAdding to its significance\, MBAM OneBuild 2025 will be co-located with OneWare – Malaysia International Hardware Technology Exhibition\, which focuses on the construction hardware sector. With 5\,500 square meters of exhibition space\, 200 exhibitors\, 280 booths\, and an anticipated 8\,000 trade visitors\, MBAM OneBuild 2025 will take place from 27 to 29 August 2025 at the Kuala Lumpur Convention Centre (KLCC)\, shaping the future of construction and infrastructure on a global scale. \nFor further details on the expo\, visit: MBAM OneBuild 2025 \nOnline Registrations: https://reg.mbamonebuild.com.my/register \n  \n \nAbout OneWare \n\nThe 4th edition of the Malaysia International Hardware Technology Exhibition\, OneWare 2025\, returns to provide an exclusive platform for the construction hardware industry. Scheduled from 27 to 29 August 2025 at the Kuala Lumpur Convention Centre (KLCC)\, OneWare will be co-located with MBAM OneBuild\, Malaysia International Construction & Infrastructure Technology Exhibition\, in adjoining halls. This collaboration creates a synergized platform\, uniting professionals across three key exhibit segments: construction & infrastructure\, construction hardware\, and construction machinery & equipment. \nWith over 200 exhibitors and 280 exhibiting booths\, OneWare 2025 is set to attract more than 8\,000 trade professionals from Malaysia and around the world. Under the theme “Innovating Construction Hardware\,” the event serves as a comprehensive platform for industry players to explore a wide range of products tailored to the construction and infrastructure sectors. From state-of-the-art fastening solutions and precision tools to advanced door systems and sustainable hardware options\, OneWare showcases the latest advancements in construction technology. \nOneWare is meticulously designed to cater to contractors\, builders\, architects\, and developers\, offering unparalleled opportunities for suppliers to connect with key industry stakeholders. By fostering collaboration and facilitating business growth\, OneWare 2025 establishes itself as the ultimate destination for sourcing high-quality construction hardware to meet the evolving demands of the modern construction landscape. \n\nFor further details on the expo\, visit: OneWare 2025 \nOnline Visitor Registrations: https://reg.oneware.com.my/register
URL:https://www.innovacia.com.my/event/mbam-onebuild-oneware2025/
LOCATION:Kuala Lumpur Convention Centre (KLCC)\, Kuala Lumpur\, Malaysia
CATEGORIES:Construction Expo
END:VEVENT
END:VCALENDAR