BEGIN:VCALENDAR
VERSION:2.0
PRODID:-//Innovacia Sdn Bhd - ECPv6.15.20//NONSGML v1.0//EN
CALSCALE:GREGORIAN
METHOD:PUBLISH
X-WR-CALNAME:Innovacia Sdn Bhd
X-ORIGINAL-URL:https://www.innovacia.com.my
X-WR-CALDESC:Events for Innovacia Sdn Bhd
REFRESH-INTERVAL;VALUE=DURATION:PT1H
X-Robots-Tag:noindex
X-PUBLISHED-TTL:PT1H
BEGIN:VTIMEZONE
TZID:Asia/Shanghai
BEGIN:STANDARD
TZOFFSETFROM:+0800
TZOFFSETTO:+0800
TZNAME:CST
DTSTART:20250101T000000
END:STANDARD
END:VTIMEZONE
BEGIN:VEVENT
DTSTART;VALUE=DATE:20260423
DTEND;VALUE=DATE:20260427
DTSTAMP:20260422T103501
CREATED:20260119T072541Z
LAST-MODIFIED:20260119T073023Z
UID:5899-1776906000-1777165199@www.innovacia.com.my
SUMMARY:ARCH:ID 2026
DESCRIPTION:  \n \nARCH:ID 2026 \nARCH:ID is the annual architectural forum and trade event organized by the Indonesian Institute of Architects (IAI) and PT CIS Exhibition. Since 2020\, it has become a trusted platform for the architecture and built environment industry to connect\, collaborate\, and innovate. \nNow in its 6th edition\, ARCH:ID is projected to occupy 17\,000 sqm\, welcome over 31\,000 local and international visitors and 200 Exhibitors. Beyond the exhibition\, it features curated programs\, networking sessions\, and industry showcases that foster meaningful connections and drive progress in the field. The event also presents an International Conference featuring renowned cross-disciplinary speakers. \nFor exhibiting and visiting enquiry\, please visit https://arch.id/
URL:https://www.innovacia.com.my/event/arch-id2026/
LOCATION:Indonesia Convention Exhibition (ICE) BSD City\, Jl. BSD Grand Boulevard Raya No.1\,\, BSD City\, Tangerang\, 15339\, Indonesia
CATEGORIES:Architecture Exhibition and Conference
END:VEVENT
END:VCALENDAR